Workbook

Sheet Descripción
B1: SKATEPARK MUSKIZ
B2: PRESUPUESTO Y MEDICIONES
B3: Código | C3: Ud | D3: Resumen | K3: Cantidad | L3: Precio (€) | M3: Importe (€)
B4: CAP.1 | D4: MOVIMIENTO DE TIERRAS
B5: 1.1 | C5: PA | D5: REPLANTEO COTAS URBANIZACIÓN | K5: 1 | L5: 450 | M5: =ROUND(K5*L5,2) -> 450
D6: Replanteo por gabinete topográfico, para implantación del skatepark, consistente en el replanteo el perímetro, caminos y las diferentes zonas en las que se divide la zona deportiva, determinando las cotas de actuación para cada una de las zonas. Una vez replanteado, previo al inicio de los trabajos, se dará el visto bueno por parte de la Dirección Facultativa.
B7: 1.2 | C7: m3 | D7: RETIRADA Y ACOPIO TIERRA VEGETAL | K7: 362.5 | L7: 3.57 | M7: =ROUND(K7*L7,2) -> 1294.13
D8: Retirada y acopio de tierra vegetal, en un espesor aproximado de 30 cm, incluso carga a camión o dumper o transporte y acopio en parcela para una futura reutilización.
F9: Uds. | G9: Largo | H9: Ancho | I9: Alto | J9: Parcial | K9: Subtotal
F10: 1450 | I10: 0.25 | J10: =ROUND(F10*I10,3) -> 362.5 | K10: =SUM(J10:J10) -> 362.5
B11: 1.3 | C11: m3 | D11: EXC.CIELO ABIERTO. MECÁNICA, SIN TRANSP A VERT | K11: =SUM(K14:K27) -> 227.71 | L11: 9.24 | M11: =ROUND(K11*L11,2) -> 2104.04
D12: Excavación a cielo abierto, en toda clase de terrenos, por medios mecánicos en explanada general, caminos y vaciado volumen bañeras. Incluso carga a camión o dumper o transporte y acopio en parcela para una futura reutilización.
E13: -15 | F13: Uds. | G13: Largo | H13: Ancho | I13: Alto | J13: Parcial | K13: Subtotal
E14: BOWL | J14: 0
E15: Base H100 | F15: 40.58 | I15: 0.85 | J15: =ROUND(F15*I15,3) -> 34.493
E16: Transi H100 | F16: 1.03 | G16: 28.14 | J16: =ROUND(F16*G16,3) -> 28.984
E17: Base H180 | F17: 10.6 | I17: 1.4 | J17: =ROUND(F17*I17,3) -> 14.84
E18: Transi H180 | F18: 2.08 | G18: 13.41 | J18: =ROUND(F18*G18,3) -> 27.893
E19: perfil 1 | F19: 0.67 | H19: 5 | J19: =ROUND(F19*H19,3) -> 3.35
E20: perfil 2 | J20: 0
E21: perfil 3 | J21: 0
E22: perfil 4 | F22: 0.54 | H22: 5 | J22: =ROUND(F22*H22,3) -> 2.7
E23: perfil 5 | J23: 0
E24: perfil 6 | F24: 7.46 | H24: 5 | J24: =ROUND(F24*H24,3) -> 37.3
E25: perfil 7 | F25: 6.15 | H25: 5 | J25: =ROUND(F25*H25,3) -> 30.75
E26: perfil 8 | F26: 5.5 | H26: 5 | J26: =ROUND(F26*H26,3) -> 27.5
E27: perfil 9 | F27: 3.98 | H27: 5 | J27: =ROUND(F27*H27,3) -> 19.9 | K27: =SUM(J14:J27) -> 227.71
B28: 1.4 | C28: m3 | D28: EXCAVACIÓN DE ZANJA O POZO SIN SOSTENIMIENTO | K28: =SUM(K31:K44) -> 111.552 | L28: 10.68 | M28: =ROUND(K28*L28,2) -> 1191.38
D29: Excavación de zanja o pozo sin sostenimiento en tierras blandas de relleno, por medios mecánicos, a cualquier profundidad, incluso agotamiento, extracción, y acopio a pie de zanja para posterior relleno de la misma.
E30: DRENAJES | F30: Uds. | G30: Largo | H30: Ancho | I30: Alto | J30: Parcial | K30: Subtotal
E31: A0-S8 | G31: 32 | H31: 0.8 | I31: 1.55 | J31: =ROUND(G31*H31*I31,3) -> 39.68
E32: S8-S7 | G32: 9.85 | H32: 0.8 | I32: 1.65 | J32: =ROUND(G32*H32*I32,3) -> 13.002
E33: S7-S3 | G33: 15.2 | H33: 0.6 | I33: 1.36 | J33: =ROUND(G33*H33*I33,3) -> 12.403
E34: S3-S2 | G34: 7.15 | H34: 0.6 | I34: 0.75 | J34: =ROUND(G34*H34*I34,3) -> 3.218
E35: S2-S1 | G35: 7.31 | H35: 0.6 | I35: 0.65 | J35: =ROUND(G35*H35*I35,3) -> 2.851
E36: IS6 | G36: 9.75 | H36: 0.6 | I36: 0.8 | J36: =ROUND(G36*H36*I36,3) -> 4.68
E37: IS5 | G37: 8.75 | H37: 0.6 | I37: 1 | J37: =ROUND(G37*H37*I37,3) -> 5.25
E38: IS4 | G38: 10.3 | H38: 0.6 | I38: 1 | J38: =ROUND(G38*H38*I38,3) -> 6.18
E39: IA2 | G39: 6.4 | H39: 0.6 | I39: 1.2 | J39: =ROUND(G39*H39*I39,3) -> 4.608 | K39: =SUM(J31:J39) -> 91.872
E40: ALUMBRADO | F40: Uds. | G40: Largo | H40: Ancho | I40: Alto | J40: Parcial | K40: Subtotal
...

Sheet Resumen
A1: SKATEPARK MUSKIZ
A2: PRESUPUESTO Y MEDICIONES
A3: Código | B3: Ud | C3: Resumen | J3: Cantidad | K3: Precio (€) | L3: Importe (€)
A4: CAP.1 | C4: MOVIMIENTO DE TIERRAS
A5: 1.1 | B5: PA | C5: REPLANTEO COTAS URBANIZACIÓN | J5: =Descripción!K5 -> 1 | K5: =Descripción!L5 -> 450 | L5: =ROUND(J5*K5,2) -> 450 | N5: =L5*((1+$J$117+$J$118))*(1+$J$120) -> 647.955
A6: 1.2 | B6: m3 | C6: RETIRADA Y ACOPIO TIERRA VEGETAL | J6: =Descripción!K7 -> 362.5 | K6: =Descripción!L7 -> 3.57 | L6: =ROUND(J6*K6,2) -> 1294.13 | N6: =L6*((1+$J$117+$J$118))*(1+$J$120) -> 1863.4178
A7: 1.3 | B7: m3 | C7: EXC.CIELO ABIERTO. MECÁNICA SIN TRANSP A VERT | J7: =Descripción!K11 -> 227.71 | K7: =Descripción!L11 -> 9.24 | L7: =ROUND(J7*K7,2) -> 2104.04 | N7: =L7*((1+$J$117+$J$118))*(1+$J$120) -> 3029.6072
A8: 1.4 | B8: m3 | C8: EXCAVACIÓN DE ZANJA O POZO SIN SOSTENIMIENTO | J8: =Descripción!K28 -> 111.552 | K8: =Descripción!L28 -> 10.68 | L8: =ROUND(J8*K8,2) -> 1191.38 | N8: =L8*((1+$J$117+$J$118))*(1+$J$120) -> 1715.4681
A9: 1.5 | B9: m3 | C9: TERRAPLENADO EXPLANACIÓN GENERAL CON MATERIAL DE LA EXCAVACION | J9: =Descripción!K45 -> 133.55 | K9: =Descripción!L45 -> 13.79 | L9: =ROUND(J9*K9,2) -> 1841.65 | N9: =L9*((1+$J$117+$J$118))*(1+$J$120) -> 2651.7918
A10: 1.6 | B10: m3 | C10: RELLENO DE BASE ELEMENTOS ELEVADOS | J10: =Descripción!K57 -> 94.445 | K10: =Descripción!L57 -> 15.24 | L10: =ROUND(J10*K10,2) -> 1439.34 | N10: =L10*((1+$J$117+$J$118))*(1+$J$120) -> 2072.5057
A11: 1.7 | B11: m3 | C11: RELLENO DE ZANJAS O POZOS CON MATERIAL SELECCIONADO PROPIA EXCAVACIÓN | J11: =Descripción!K63 -> 62.234 | K11: =Descripción!L63 -> 9.18 | L11: =ROUND(J11*K11,2) -> 571.31 | N11: =L11*((1+$J$117+$J$118))*(1+$J$120) -> 822.62927
A12: 1.8 | B12: m2 | C12: PERFILADO DE CURVAS | J12: =Descripción!K80 -> 278.156 | K12: =Descripción!L80 -> 3.89 | L12: =ROUND(J12*K12,2) -> 1082.03 | N12: =L12*((1+$J$117+$J$118))*(1+$J$120) -> 1558.015
A13: 1.9 | B13: m2 | C13: PERFILADO Y REFINO DE TALUDES | J13: =Descripción!K101 -> 184 | K13: =Descripción!L101 -> 1.48 | L13: =ROUND(J13*K13,2) -> 272.32 | N13: =L13*((1+$J$117+$J$118))*(1+$J$120) -> 392.11357
A14: 1.10 | B14: m3 | C14: ENCACHADO DE CM GRAVA | J14: =Descripción!K105 -> 150.056 | K14: =Descripción!L105 -> 31.8 | L14: =ROUND(J14*K14,2) -> 4771.78 | N14: =L14*((1+$J$117+$J$118))*(1+$J$120) -> 6870.886
A15: 1.11 | B15: m3 | C15: TRANSPORTE DE TIERRAS DENTRO DE LA OBRA | J15: =Descripción!K111 -> 150 | K15: =Descripción!L111 -> 3.65 | L15: =ROUND(J15*K15,2) -> 547.5 | N15: =L15*((1+$J$117+$J$118))*(1+$J$120) -> 788.34525
C16: CAP.1 | L16: =L5+L6+L7+L8+L9+L10+L11+L12+L13+L14+L15 -> 15565.48 | N16: =L16*((1+$J$117+$J$118))*(1+$J$120) -> 22412.735
A17: CAP.2 | C17: DRENAJES | N17: =L17*((1+$J$117+$J$118))*(1+$J$120) -> 0
A18: 2.1 | B18: ml | C18: COLECTOR ENTERRADO RED DE PLUVIALES | J18: =Descripción!K118 -> 100.31 | K18: =Descripción!L118 -> 32.68 | L18: =ROUND(J18*K18,2) -> 3278.13 | N18: =L18*((1+$J$117+$J$118))*(1+$J$120) -> 4720.1794
A19: 2.2 | B19: ud | C19: PUNTO SUMIDERO | J19: =Descripción!K129 -> 8 | K19: =Descripción!L129 -> 110.74 | L19: =ROUND(J19*K19,2) -> 885.92 | N19: =L19*((1+$J$117+$J$118))*(1+$J$120) -> 1275.6362
A20: 2.3 | B20: ud | C20: ARQUETA SUMIDERO | J20: =Descripción!K131 -> 2 | K20: =Descripción!L131 -> 189.75 | L20: =ROUND(J20*K20,2) -> 379.5 | N20: =L20*((1+$J$117+$J$118))*(1+$J$120) -> 546.44205
A21: 2.4 | B21: ml | C21: TUBO DRENANTE | J21: =Descripción!K133 -> 40 | K21: =Descripción!L133 -> 16.85 | L21: =ROUND(J21*K21,2) -> 674 | N21: =L21*((1+$J$117+$J$118))*(1+$J$120) -> 970.4926
A22: 2.5 | B22: ud | C22: POZO SANEAMIENTO | J22: =Descripción!K135 -> 1 | K22: =Descripción!L135 -> 728.94 | L22: =ROUND(J22*K22,2) -> 728.94 | N22: =L22*((1+$J$117+$J$118))*(1+$J$120) -> 1049.6007
A23: 2.6 | B23: ud | C23: CONEXIÓN A LA RED GENERAL DE SANEAMIENTO DEL MUNICIPIO | J23: =Descripción!K137 -> 1 | K23: =Descripción!L137 -> 468.77 | L23: =ROUND(J23*K23,2) -> 468.77 | N23: =L23*((1+$J$117+$J$118))*(1+$J$120) -> 674.98192
C24: CAP.2 | L24: =L18+L19+L20+L21+L22+L23 -> 6415.26 | N24: =L24*((1+$J$117+$J$118))*(1+$J$120) -> 9237.3329
A25: CAP.3 | C25: HORMIGONES | N25: =L25*((1+$J$117+$J$118))*(1+$J$120) -> 0
A26: 3.1 | B26: m3 | C26: CAPA DE HORMIGÓN DE LIMPIEZA | J26: =Descripción!K141 -> 1 | K26: =Descripción!L141 -> 98.57 | L26: =ROUND(J26*K26,2) -> 98.57 | N26: =L26*((1+$J$117+$J$118))*(1+$J$120) -> 141.93094
A27: 3.2 | B27: ml | C27: ZUNCHO DE HORMIGÓN ARMADO DE 30X20 CM | J27: =Descripción!K143 -> 33.3 | K27: =Descripción!L143 -> 21.45 | L27: =ROUND(J27*K27,2) -> 714.29 | N27: =L27*((1+$J$117+$J$118))*(1+$J$120) -> 1028.5062
A28: 3.3 | B28: m3 | C28: ZAPATA CORRIDA DE CIMENTACIÓN, DE HORMIGÓN ARMADO | J28: =Descripción!K147 -> 1 | K28: =Descripción!L147 -> 243.93 | L28: =ROUND(J28*K28,2) -> 243.93 | N28: =L28*((1+$J$117+$J$118))*(1+$J$120) -> 351.23481
A29: 3.4 | B29: m3 | C29: H.ARM. HA-25/P/20/I V.M.ENCOF. MURO VISTO UNA CARA | J29: =Descripción!K149 -> 1 | K29: =Descripción!L149 -> 356.54 | L29: =ROUND(J29*K29,2) -> 356.54 | N29: =L29*((1+$J$117+$J$118))*(1+$J$120) -> 513.38195
A30: 3.5 | B30: m2 | C30: SOLERA DE HORMIGÓN ARMADO PULIDA MEDIANTE FRATASADORA MECÁNICA | J30: =Descripción!K151 -> 596.92 | K30: =Descripción!L151 -> 39.61 | L30: =ROUND(J30*K30,2) -> 23644 | N30: =L30*((1+$J$117+$J$118))*(1+$J$120) -> 34044.996
A31: 3.6 | B31: m2 | C31: SOLERA EN TRANSICIONES CURVAS Y PLANOS INCLINADOS PULIDO MANUAL | J31: =Descripción!K161 -> 320.156 | K31: =Descripción!L161 -> 135.68 | L31: =ROUND(J31*K31,2) -> 43438.77 | N31: =L31*((1+$J$117+$J$118))*(1+$J$120) -> 62547.485
A32: 3.7 | B32: kg | C32: COLORANTE SOLERA HORMIGÓN | J32: =Descripción!K192 -> 1105.704 | K32: =Descripción!L192 -> 3.18 | L32: =ROUND(J32*K32,2) -> 3516.14 | N32: =L32*((1+$J$117+$J$118))*(1+$J$120) -> 5062.89
A33: 3.8 | B33: ml | C33: REMATE SUPERIOR TRANSICIONES | J33: =Descripción!K210 -> 33.3 | K33: =Descripción!L210 -> 52.73 | L33: =ROUND(J33*K33,2) -> 1755.91 | N33: =L33*((1+$J$117+$J$118))*(1+$J$120) -> 2528.3348
A34: 3.9 | B34: ml | C34: FORMACIÓN DE CORONA PARA POOL COOPING | J34: =Descripción!K214 -> 16.09 | K34: =Descripción!L214 -> 54.05 | L34: =ROUND(J34*K34,2) -> 869.66 | N34: =L34*((1+$J$117+$J$118))*(1+$J$120) -> 1252.2234
A35: 3.10 | B35: m3 | C35: MACIZADO MÓDULOS DE HORMIGÓN EN MASA | J35: =Descripción!K219 -> 6.956 | K35: =Descripción!L219 -> 114.88 | L35: =ROUND(J35*K35,2) -> 799.11 | N35: =L35*((1+$J$117+$J$118))*(1+$J$120) -> 1150.6385
A36: 3.11 | B36: ml | C36: BORDILLO SLAPPY | J36: =Descripción!K228 -> 9 | K36: =Descripción!L228 -> 89.21 | L36: =ROUND(J36*K36,2) -> 802.89 | N36: =L36*((1+$J$117+$J$118))*(1+$J$120) -> 1156.0813
A37: 3.12 | B37: ml | C37: FORMACIÓN ARISTA TIPO NOPING | J37: =Descripción!K232 -> 5.5 | K37: =Descripción!L232 -> 31.46 | L37: =ROUND(J37*K37,2) -> 173.03 | N37: =L37*((1+$J$117+$J$118))*(1+$J$120) -> 249.1459
A38: 3.13 | B38: ml | C38: REMATE SOLERAS CON OTROS ELEMENTOS | J38: =Descripción!K236 -> 153.5 | K38: =Descripción!L236 -> 3.18 | L38: =ROUND(J38*K38,2) -> 488.13 | N38: =L38*((1+$J$117+$J$118))*(1+$J$120) -> 702.85839
A39: 3.14 | B39: ml | C39: REMATE PERIMETRAL SOLERAS | J39: =Descripción!K252 -> 161.8 | K39: =Descripción!L252 -> 3.06 | L39: =ROUND(J39*K39,2) -> 495.11 | N39: =L39*((1+$J$117+$J$118))*(1+$J$120) -> 712.90889
A40: 3.15 | B40: m2 | C40: SOLERA HORMIGÓN ACABADO CEPILLADO | J40: =Descripción!K260 -> 36.8 | K40: =Descripción!L260 -> 26.32 | L40: =ROUND(J40*K40,2) -> 968.58 | N40: =L40*((1+$J$117+$J$118))*(1+$J$120) -> 1394.6583
...
