Workbook
Name Clasificacion: ConceptosValorados!$A$12:$A$18
Name Lote1: Empresas!$A$2:$C$9
Name Lote2: Empresas!$A$12:$C$19
Name Lote3: Empresas!$A$22:$C$25
Name Lote4: Empresas!$A$28:$C$31
Name Lote5: Empresas!$A$34:$C$38
Name lotes: Empresas!$E$2:$E$6

Sheet ConceptosValorados
A1: Calidad Técnica de la Oferta | B1: Puntos
A2: Planificación de las fases 1, 2 y 3 del servicio | B2: 3
A3: Propuesta de modelo operativo que cumpla, con carácter mínimo, lo dispuesto en el presente documento de Bases Técnicas | B3: 2
A4: Propuesta de informes, en cuanto a contenido, periodicidad, metodología y herramientas para la confección de los mismos, que cumpla, con carácter mínimo, con lo dispuesto en el presente documento de Bases Técnicas | B4: 1
A5: Propuesta sobre métricas que cumpla, con carácter mínimo, lo dispuesto en el presente documento de Bases Técnicas | B5: 1
A6: Propuesta de herramienta de Gestión del Conocimiento: descripción y funcionalidades | B6: 1
A7: Plan de devolución indicado en la fase 5 del servicio. | B7: 1
A8: Medidas a adoptar por el licitador para promover y asegurar que las personas adscritas a la ejecución del contrato ostenten las competencias indicadas en la cláusula 3 del presente documento. Así como las medidas a adoptar para su seguimiento y supervisión | B8: 1
A11: Ponderación | B11: Porcentaje
A12: No ha presentado oferta
A13: No ha sido invitado
A14: Excelente | B14: 1
A15: Buena | B15: 0.75
A16: Media | B16: 0.5
A17: Básica | B17: 0.2
A18: No se aporta o no corresponde | B18: 0

Sheet Valoración
A1: Datos del contrato
A2: Código de contrato (*) | B2: 2023KOER0032
A3: Lote(*) | B3: 5 - Soporte y Service desk
A5: Empresa | B5: =B16 -> Puntuación Obtenida
A6: =B15 -> TEKNEI INFORMATION TECHNOLOGY S.L.U | B6: =IF(A6<>"",IF(C17=ConceptosValorados!$A$12,ConceptosValorados!$A$12,IF(C17=ConceptosValorados!$A$13,ConceptosValorados!$A$13,IF(SUM(B17:B23)<>"",SUM(B17:B23),""))),"") -> 7.25
A7: =B26 -> IBERMÁTICA, S.A. | B7: =IF(A7<>"",IF(C28=ConceptosValorados!$A$12,ConceptosValorados!$A$12,IF(C28=ConceptosValorados!$A$13,ConceptosValorados!$A$13,IF(SUM(B28:B34)<>"",SUM(B28:B34),""))),"") -> 0
A8: =B37 -> INETUM NORTE, S.L.U. | B8: =IF(A8<>"",IF(C39=ConceptosValorados!$A$12,ConceptosValorados!$A$12,IF(C39=ConceptosValorados!$A$13,ConceptosValorados!$A$13,IF(SUM(B39:B45)<>"",SUM(B39:B45),""))),"") -> 0
A9: =B48 -> SOLUTIA INNOVAWORLD TECHNOLOGIES, S.L. | B9: No ha presentado oferta
A10: =B59 -> VERSIA CONTACT CENTER, S.L. | B10: =IF(A10<>"",IF(C61=ConceptosValorados!$A$12,ConceptosValorados!$A$12,IF(C61=ConceptosValorados!$A$13,ConceptosValorados!$A$13,IF(SUM(B61:B67)<>"",SUM(B61:B67),""))),"") -> 7
A11: =B70 | B11: =IF(A11<>"",IF(C72=ConceptosValorados!$A$12,ConceptosValorados!$A$12,IF(C72=ConceptosValorados!$A$13,ConceptosValorados!$A$13,IF(SUM(B72:B78)<>"",SUM(B72:B78),""))),"")
A12: =B81 | B12: =IF(A12<>"",IF(C83=ConceptosValorados!$A$12,ConceptosValorados!$A$12,IF(C83=ConceptosValorados!$A$13,ConceptosValorados!$A$13,IF(SUM(B83:B89)<>"",SUM(B83:B89),""))),"")
A13: =B92 | B13: =IF(A13<>"",IF(C94=ConceptosValorados!$A$12,ConceptosValorados!$A$12,IF(C94=ConceptosValorados!$A$13,ConceptosValorados!$A$13,IF(SUM(B94:B100)<>"",SUM(B94:B100),""))),"")
B15: =IF(B3<>"",IF($B$3=Empresas!$E$2,Empresas!C2,IF($B$3=Empresas!$E$3,Empresas!C12,IF($B$3=Empresas!$E$4,Empresas!C22,IF($B$3=Empresas!$E$5,Empresas!C28,Empresas!C34)))),"") -> TEKNEI INFORMATION TECHNOLOGY S.L.U
A16: Calidad Técnica de la Oferta | B16: Puntuación Obtenida | C16: Ponderación
A17: =IF(AND($B$26<>"",ConceptosValorados!$A2<>""),ConceptosValorados!$A2,"") -> Planificación de las fases 1, 2 y 3 del servicio | B17: 1.5 | C17: Media
A18: =IF(AND($B$26<>"",ConceptosValorados!$A3<>""),ConceptosValorados!$A3,"") -> Propuesta de modelo operativo que cumpla, con carácter mínimo, lo dispuesto en el presente documento de Bases Técnicas | B18: 1.5 | C18: Buena
A19: =IF(AND($B$26<>"",ConceptosValorados!$A4<>""),ConceptosValorados!$A4,"") -> Propuesta de informes, en cuanto a contenido, periodicidad, metodología y herramientas para la confección de los mismos, que cumpla, con carácter mínimo, con lo dispuesto en el presente documento de Bases Técnicas | B19: 0.5 | C19: Media
A20: =IF(AND($B$26<>"",ConceptosValorados!$A5<>""),ConceptosValorados!$A5,"") -> Propuesta sobre métricas que cumpla, con carácter mínimo, lo dispuesto en el presente documento de Bases Técnicas | B20: 1 | C20: Excelente
A21: =IF(AND($B$26<>"",ConceptosValorados!$A6<>""),ConceptosValorados!$A6,"") -> Propuesta de herramienta de Gestión del Conocimiento: descripción y funcionalidades | B21: 1 | C21: Excelente
A22: =IF(AND($B$26<>"",ConceptosValorados!$A7<>""),ConceptosValorados!$A7,"") -> Plan de devolución indicado en la fase 5 del servicio. | B22: 1 | C22: Excelente
A23: =IF(AND($B$26<>"",ConceptosValorados!$A8<>""),ConceptosValorados!$A8,"") -> Medidas a adoptar por el licitador para promover y asegurar que las personas adscritas a la ejecución del contrato ostenten las competencias indicadas en la cláusula 3 del presente documento. Así como las medidas a adoptar para su seguimiento y supervisión | B23: 0.75 | C23: Buena
B26: =IF(B3<>"",IF($B$3=Empresas!$E$2,Empresas!C3,IF($B$3=Empresas!$E$3,Empresas!C13,IF($B$3=Empresas!$E$4,Empresas!C23,IF($B$3=Empresas!$E$5,Empresas!C29,Empresas!C35)))),"") -> IBERMÁTICA, S.A.
A27: =$A$16 -> Calidad Técnica de la Oferta | B27: =$B$16 -> Puntuación Obtenida | C27: =$C$16 -> Ponderación
A28: =IF(AND($B$26<>"",ConceptosValorados!$A2<>""),ConceptosValorados!$A2,"") -> Planificación de las fases 1, 2 y 3 del servicio | B28: 0 | C28: No se aporta o no corresponde
A29: =IF(AND($B$26<>"",ConceptosValorados!$A3<>""),ConceptosValorados!$A3,"") -> Propuesta de modelo operativo que cumpla, con carácter mínimo, lo dispuesto en el presente documento de Bases Técnicas | B29: 0 | C29: No se aporta o no corresponde
A30: =IF(AND($B$26<>"",ConceptosValorados!$A4<>""),ConceptosValorados!$A4,"") -> Propuesta de informes, en cuanto a contenido, periodicidad, metodología y herramientas para la confección de los mismos, que cumpla, con carácter mínimo, con lo dispuesto en el presente documento de Bases Técnicas | B30: 0 | C30: No se aporta o no corresponde
A31: =IF(AND($B$26<>"",ConceptosValorados!$A5<>""),ConceptosValorados!$A5,"") -> Propuesta sobre métricas que cumpla, con carácter mínimo, lo dispuesto en el presente documento de Bases Técnicas | B31: 0 | C31: No se aporta o no corresponde
A32: =IF(AND($B$26<>"",ConceptosValorados!$A6<>""),ConceptosValorados!$A6,"") -> Propuesta de herramienta de Gestión del Conocimiento: descripción y funcionalidades | B32: 0 | C32: No se aporta o no corresponde
A33: =IF(AND($B$26<>"",ConceptosValorados!$A7<>""),ConceptosValorados!$A7,"") -> Plan de devolución indicado en la fase 5 del servicio. | B33: 0 | C33: No se aporta o no corresponde
A34: =IF(AND($B$26<>"",ConceptosValorados!$A8<>""),ConceptosValorados!$A8,"") -> Medidas a adoptar por el licitador para promover y asegurar que las personas adscritas a la ejecución del contrato ostenten las competencias indicadas en la cláusula 3 del presente documento. Así como las medidas a adoptar para su seguimiento y supervisión | B34: 0 | C34: No se aporta o no corresponde
B37: =IF(B3<>"",IF($B$3=Empresas!$E$2,Empresas!C4,IF($B$3=Empresas!$E$3,Empresas!C14,IF($B$3=Empresas!$E$4,Empresas!C24,IF($B$3=Empresas!$E$5,Empresas!C30,Empresas!C36)))),"") -> INETUM NORTE, S.L.U.
A38: =$A$16 -> Calidad Técnica de la Oferta | B38: =$B$16 -> Puntuación Obtenida | C38: =$C$16 -> Ponderación
A39: =IF(AND($B$37<>"",ConceptosValorados!$A2<>""),ConceptosValorados!$A2,"") -> Planificación de las fases 1, 2 y 3 del servicio | B39: 0 | C39: No se aporta o no corresponde
A40: =IF(AND($B$37<>"",ConceptosValorados!$A3<>""),ConceptosValorados!$A3,"") -> Propuesta de modelo operativo que cumpla, con carácter mínimo, lo dispuesto en el presente documento de Bases Técnicas | B40: 0 | C40: No se aporta o no corresponde
A41: =IF(AND($B$37<>"",ConceptosValorados!$A4<>""),ConceptosValorados!$A4,"") -> Propuesta de informes, en cuanto a contenido, periodicidad, metodología y herramientas para la confección de los mismos, que cumpla, con carácter mínimo, con lo dispuesto en el presente documento de Bases Técnicas | B41: 0 | C41: No se aporta o no corresponde
A42: =IF(AND($B$37<>"",ConceptosValorados!$A5<>""),ConceptosValorados!$A5,"") -> Propuesta sobre métricas que cumpla, con carácter mínimo, lo dispuesto en el presente documento de Bases Técnicas | B42: 0 | C42: No se aporta o no corresponde
A43: =IF(AND($B$37<>"",ConceptosValorados!$A6<>""),ConceptosValorados!$A6,"") -> Propuesta de herramienta de Gestión del Conocimiento: descripción y funcionalidades | B43: 0 | C43: No se aporta o no corresponde
A44: =IF(AND($B$37<>"",ConceptosValorados!$A7<>""),ConceptosValorados!$A7,"") -> Plan de devolución indicado en la fase 5 del servicio. | B44: 0 | C44: No se aporta o no corresponde
A45: =IF(AND($B$37<>"",ConceptosValorados!$A8<>""),ConceptosValorados!$A8,"") -> Medidas a adoptar por el licitador para promover y asegurar que las personas adscritas a la ejecución del contrato ostenten las competencias indicadas en la cláusula 3 del presente documento. Así como las medidas a adoptar para su seguimiento y supervisión | B45: 0 | C45: No se aporta o no corresponde
B48: =IF(B3<>"",IF($B$3=Empresas!$E$2,Empresas!C5,IF($B$3=Empresas!$E$3,Empresas!C15,IF($B$3=Empresas!$E$4,Empresas!C25,IF($B$3=Empresas!$E$5,Empresas!C31,Empresas!C37)))),"") -> SOLUTIA INNOVAWORLD TECHNOLOGIES, S.L.
A49: =$A$16 -> Calidad Técnica de la Oferta | B49: =$B$16 -> Puntuación Obtenida | C49: =$C$16 -> Ponderación
A50: =IF(AND($B$48<>"",ConceptosValorados!$A2<>""),ConceptosValorados!$A2,"") -> Planificación de las fases 1, 2 y 3 del servicio | B50: =IF(AND($B$48<>"",A50<>""),IFERROR(ConceptosValorados!$B2*VLOOKUP(C50,ConceptosValorados!$A$14:$B$18,2,0),""),"") | C50: No ha presentado oferta
A51: =IF(AND($B$48<>"",ConceptosValorados!$A3<>""),ConceptosValorados!$A3,"") -> Propuesta de modelo operativo que cumpla, con carácter mínimo, lo dispuesto en el presente documento de Bases Técnicas | B51: =IF(AND($B$48<>"",A51<>""),IFERROR(ConceptosValorados!$B3*VLOOKUP(C51,ConceptosValorados!$A$14:$B$18,2,0),""),"") | C51: No ha presentado oferta
A52: =IF(AND($B$48<>"",ConceptosValorados!$A4<>""),ConceptosValorados!$A4,"") -> Propuesta de informes, en cuanto a contenido, periodicidad, metodología y herramientas para la confección de los mismos, que cumpla, con carácter mínimo, con lo dispuesto en el presente documento de Bases Técnicas | B52: =IF(AND($B$48<>"",A52<>""),IFERROR(ConceptosValorados!$B4*VLOOKUP(C52,ConceptosValorados!$A$14:$B$18,2,0),""),"") | C52: No ha presentado oferta
A53: =IF(AND($B$48<>"",ConceptosValorados!$A5<>""),ConceptosValorados!$A5,"") -> Propuesta sobre métricas que cumpla, con carácter mínimo, lo dispuesto en el presente documento de Bases Técnicas | B53: =IF(AND($B$48<>"",A53<>""),IFERROR(ConceptosValorados!$B5*VLOOKUP(C53,ConceptosValorados!$A$14:$B$18,2,0),""),"") | C53: No ha presentado oferta
A54: =IF(AND($B$48<>"",ConceptosValorados!$A6<>""),ConceptosValorados!$A6,"") -> Propuesta de herramienta de Gestión del Conocimiento: descripción y funcionalidades | B54: =IF(AND($B$48<>"",A54<>""),IFERROR(ConceptosValorados!$B6*VLOOKUP(C54,ConceptosValorados!$A$14:$B$18,2,0),""),"") | C54: No ha presentado oferta
A55: =IF(AND($B$48<>"",ConceptosValorados!$A7<>""),ConceptosValorados!$A7,"") -> Plan de devolución indicado en la fase 5 del servicio. | B55: =IF(AND($B$48<>"",A55<>""),IFERROR(ConceptosValorados!$B7*VLOOKUP(C55,ConceptosValorados!$A$14:$B$18,2,0),""),"") | C55: No ha presentado oferta
A56: =IF(AND($B$48<>"",ConceptosValorados!$A8<>""),ConceptosValorados!$A8,"") -> Medidas a adoptar por el licitador para promover y asegurar que las personas adscritas a la ejecución del contrato ostenten las competencias indicadas en la cláusula 3 del presente documento. Así como las medidas a adoptar para su seguimiento y supervisión | B56: =IF(AND($B$48<>"",A56<>""),IFERROR(ConceptosValorados!$B8*VLOOKUP(C56,ConceptosValorados!$A$14:$B$18,2,0),""),"") | C56: No ha presentado oferta
B59: =IF(B3<>"",IF($B$3=Empresas!$E$2,Empresas!C6,IF($B$3=Empresas!$E$3,Empresas!C16,IF($B$3=Empresas!$E$4,"",IF($B$3=Empresas!$E$5,"",Empresas!C38)))),"") -> VERSIA CONTACT CENTER, S.L.
A60: =$A$16 -> Calidad Técnica de la Oferta | B60: =$B$16 -> Puntuación Obtenida | C60: =$C$16 -> Ponderación
A61: =IF(AND($B$59<>"",ConceptosValorados!$A2<>""),ConceptosValorados!$A2,"") -> Planificación de las fases 1, 2 y 3 del servicio | B61: 1.5 | C61: Media
A62: =IF(AND($B$59<>"",ConceptosValorados!$A3<>""),ConceptosValorados!$A3,"") -> Propuesta de modelo operativo que cumpla, con carácter mínimo, lo dispuesto en el presente documento de Bases Técnicas | B62: 1.5 | C62: Buena
A63: =IF(AND($B$59<>"",ConceptosValorados!$A4<>""),ConceptosValorados!$A4,"") -> Propuesta de informes, en cuanto a contenido, periodicidad, metodología y herramientas para la confección de los mismos, que cumpla, con carácter mínimo, con lo dispuesto en el presente documento de Bases Técnicas | B63: 0.5 | C63: Media
A64: =IF(AND($B$59<>"",ConceptosValorados!$A5<>""),ConceptosValorados!$A5,"") -> Propuesta sobre métricas que cumpla, con carácter mínimo, lo dispuesto en el presente documento de Bases Técnicas | B64: 0.75 | C64: Buena
A65: =IF(AND($B$59<>"",ConceptosValorados!$A6<>""),ConceptosValorados!$A6,"") -> Propuesta de herramienta de Gestión del Conocimiento: descripción y funcionalidades | B65: 1 | C65: Excelente
A66: =IF(AND($B$59<>"",ConceptosValorados!$A7<>""),ConceptosValorados!$A7,"") -> Plan de devolución indicado en la fase 5 del servicio. | B66: 0.75 | C66: Buena
A67: =IF(AND($B$59<>"",ConceptosValorados!$A8<>""),ConceptosValorados!$A8,"") -> Medidas a adoptar por el licitador para promover y asegurar que las personas adscritas a la ejecución del contrato ostenten las competencias indicadas en la cláusula 3 del presente documento. Así como las medidas a adoptar para su seguimiento y supervisión | B67: 1 | C67: Excelente
B70: =IF(B3<>"",IF($B$3=Empresas!$E$2,Empresas!C7,IF($B$3=Empresas!$E$3,Empresas!C17,"")),"")
A71: =$A$16 -> Calidad Técnica de la Oferta | B71: =$B$16 -> Puntuación Obtenida | C71: =$C$16 -> Ponderación
A72: =IF(AND($B$70<>"",ConceptosValorados!$A2<>""),ConceptosValorados!$A2,"") | B72: =IF(AND($B$70<>"",A72<>""),IFERROR(ConceptosValorados!$B2*VLOOKUP(C72,ConceptosValorados!$A$14:$B$18,2,0),""),"")
A73: =IF(AND($B$70<>"",ConceptosValorados!$A3<>""),ConceptosValorados!$A3,"") | B73: =IF(AND($B$70<>"",A73<>""),IFERROR(ConceptosValorados!$B3*VLOOKUP(C73,ConceptosValorados!$A$14:$B$18,2,0),""),"")
A74: =IF(AND($B$70<>"",ConceptosValorados!$A4<>""),ConceptosValorados!$A4,"") | B74: =IF(AND($B$70<>"",A74<>""),IFERROR(ConceptosValorados!$B4*VLOOKUP(C74,ConceptosValorados!$A$14:$B$18,2,0),""),"")
A75: =IF(AND($B$70<>"",ConceptosValorados!$A5<>""),ConceptosValorados!$A5,"") | B75: =IF(AND($B$70<>"",A75<>""),IFERROR(ConceptosValorados!$B5*VLOOKUP(C75,ConceptosValorados!$A$14:$B$18,2,0),""),"")
A76: =IF(AND($B$70<>"",ConceptosValorados!$A6<>""),ConceptosValorados!$A6,"") | B76: =IF(AND($B$70<>"",A76<>""),IFERROR(ConceptosValorados!$B6*VLOOKUP(C76,ConceptosValorados!$A$14:$B$18,2,0),""),"")
A77: =IF(AND($B$70<>"",ConceptosValorados!$A7<>""),ConceptosValorados!$A7,"") | B77: =IF(AND($B$70<>"",A77<>""),IFERROR(ConceptosValorados!$B7*VLOOKUP(C77,ConceptosValorados!$A$14:$B$18,2,0),""),"")
A78: =IF(AND($B$70<>"",ConceptosValorados!$A8<>""),ConceptosValorados!$A8,"") | B78: =IF(AND($B$70<>"",A78<>""),IFERROR(ConceptosValorados!$B8*VLOOKUP(C78,ConceptosValorados!$A$14:$B$18,2,0),""),"")
B81: =IF(B3<>"",IF($B$3=Empresas!$E$2,Empresas!C8,IF($B$3=Empresas!$E$3,Empresas!C18,"")),"")
A82: =$A$16 -> Calidad Técnica de la Oferta | B82: =$B$16 -> Puntuación Obtenida | C82: =$C$16 -> Ponderación
A83: =IF(AND($B$81<>"",ConceptosValorados!$A2<>""),ConceptosValorados!$A2,"") | B83: =IF(AND($B$81<>"",A83<>""),IFERROR(ConceptosValorados!$B2*VLOOKUP(C83,ConceptosValorados!$A$14:$B$18,2,0),""),"")
A84: =IF(AND($B$81<>"",ConceptosValorados!$A3<>""),ConceptosValorados!$A3,"") | B84: =IF(AND($B$81<>"",A84<>""),IFERROR(ConceptosValorados!$B3*VLOOKUP(C84,ConceptosValorados!$A$14:$B$18,2,0),""),"")
A85: =IF(AND($B$81<>"",ConceptosValorados!$A4<>""),ConceptosValorados!$A4,"") | B85: =IF(AND($B$81<>"",A85<>""),IFERROR(ConceptosValorados!$B4*VLOOKUP(C85,ConceptosValorados!$A$14:$B$18,2,0),""),"")
A86: =IF(AND($B$81<>"",ConceptosValorados!$A5<>""),ConceptosValorados!$A5,"") | B86: =IF(AND($B$81<>"",A86<>""),IFERROR(ConceptosValorados!$B5*VLOOKUP(C86,ConceptosValorados!$A$14:$B$18,2,0),""),"")
A87: =IF(AND($B$81<>"",ConceptosValorados!$A6<>""),ConceptosValorados!$A6,"") | B87: =IF(AND($B$81<>"",A87<>""),IFERROR(ConceptosValorados!$B6*VLOOKUP(C87,ConceptosValorados!$A$14:$B$18,2,0),""),"")
A88: =IF(AND($B$81<>"",ConceptosValorados!$A7<>""),ConceptosValorados!$A7,"") | B88: =IF(AND($B$81<>"",A88<>""),IFERROR(ConceptosValorados!$B7*VLOOKUP(C88,ConceptosValorados!$A$14:$B$18,2,0),""),"")
A89: =IF(AND($B$81<>"",ConceptosValorados!$A8<>""),ConceptosValorados!$A8,"") | B89: =IF(AND($B$81<>"",A89<>""),IFERROR(ConceptosValorados!$B8*VLOOKUP(C89,ConceptosValorados!$A$14:$B$18,2,0),""),"")
B92: =IF(B3<>"",IF($B$3=Empresas!$E$2,Empresas!C9,IF($B$3=Empresas!$E$3,Empresas!C19,"")),"")
A93: =$A$16 -> Calidad Técnica de la Oferta | B93: =$B$16 -> Puntuación Obtenida | C93: =$C$16 -> Ponderación
A94: =IF(AND($B$92<>"",ConceptosValorados!$A$2<>""),ConceptosValorados!$A$2,"") | B94: =IF(AND($B$92<>"",A94<>""),IFERROR(ConceptosValorados!$B2*VLOOKUP(C94,ConceptosValorados!$A$14:$B$18,2,0),""),"")
A95: =IF(AND($B$92<>"",ConceptosValorados!$A$3<>""),ConceptosValorados!$A$3,"") | B95: =IF(AND($B$92<>"",A95<>""),IFERROR(ConceptosValorados!$B3*VLOOKUP(C95,ConceptosValorados!$A$14:$B$18,2,0),""),"")
A96: =IF(AND($B$92<>"",ConceptosValorados!$A$4<>""),ConceptosValorados!$A$4,"") | B96: =IF(AND($B$92<>"",A96<>""),IFERROR(ConceptosValorados!$B4*VLOOKUP(C96,ConceptosValorados!$A$14:$B$18,2,0),""),"")
A97: =IF(AND($B$92<>"",ConceptosValorados!$A$5<>""),ConceptosValorados!$A$5,"") | B97: =IF(AND($B$92<>"",A97<>""),IFERROR(ConceptosValorados!$B5*VLOOKUP(C97,ConceptosValorados!$A$14:$B$18,2,0),""),"")
A98: =IF(AND($B$92<>"",ConceptosValorados!$A$6<>""),ConceptosValorados!$A$6,"") | B98: =IF(AND($B$92<>"",A98<>""),IFERROR(ConceptosValorados!$B6*VLOOKUP(C98,ConceptosValorados!$A$14:$B$18,2,0),""),"")
A99: =IF(AND($B$92<>"",ConceptosValorados!$A$7<>""),ConceptosValorados!$A$7,"") | B99: =IF(AND($B$92<>"",A99<>""),IFERROR(ConceptosValorados!$B7*VLOOKUP(C99,ConceptosValorados!$A$14:$B$18,2,0),""),"")
A100: =IF(AND($B$92<>"",ConceptosValorados!$A$8<>""),ConceptosValorados!$A$8,"") | B100: =IF(AND($B$92<>"",A100<>""),IFERROR(ConceptosValorados!$B8*VLOOKUP(C100,ConceptosValorados!$A$14:$B$18,2,0),""),"")

Sheet Empresas
A1: Lote | B1: Empresa | C1: Empresa (empresasX) | E1: Lotes
A2: 1 | B2: TEKNEI_IT | C2: TEKNEI INFORMATION TECHNOLOGY S.L. | E2: 1 - Desarrollo
A3: 1 | B3: INETUM | C3: INETUM NORTE, S.L.U. | E3: 2 - Desarrollo - elementos comunes
A4: 1 | B4: SERIKAT | C4: SERIKAT CONSULTORÍA E INFORMÁTICA, S.A. | E4: 3 - Asistencia técnica - sistemas
A5: 1 | B5: DEUSTO | C5: DEUSTO SEIDOR S.A. | E5: 4 - Asistencia técnica - microinformática
A6: 1 | B6: UTE_TEKNEI | C6: TEKNEI DIGITAL S.A.U., TEKNEI INFORMATION TECHNOLOGY S.L., SISTEMAS Y TRATAMIENTOS INFORMÁTICOS S.L.U., MATHEMATICS FOR LIFE S.L., MERKATU INTERACTIVA S.L. | E6: 5 - Soporte y Service desk
A7: 1 | B7: NTT DATA | C7: NTT DATA SPAIN S.L.U. ,NTT DATA CENTERS S.L.U. , UNIÓN TEMPORAL DE EMPRESAS
A8: 1 | B8: IBERMATICA | C8: IBERMÁTICA, S.A.
A9: 1 | B9: INDRA | C9: INDRA SOLUCIONES TECNOLOGIAS DE LA INFORMACION, S.L.U
A12: 2 | B12: UTE ARIMA-ADIMEDIA | C12: COMUNICACIÓN INTERACTIVA ADIMEDIA, S.L. Y ARIMA SOFTWARE DESIGN, S.L., UNIÓN TEMPORAL DE EMPRESAS
A13: 2 | B13: DEUSTO | C13: DEUSTO SEIDOR, S.A.
A14: 2 | B14: TEKNEI_IT | C14: TEKNEI INFORMATION TECHNOLOGY S.L.
A15: 2 | B15: NTT DATA | C15: NTT DATA SPAIN, S.L.
A16: 2 | B16: UTE_TEKNEI | C16: TEKNEI DIGITAL S.A.U., TEKNEI INFORMATION TECHNOLOGY S.L., SISTEMAS Y TRATAMIENTOS INFORMÁTICOS S.L.U., MATHEMATICS FOR LIFE S.L., MERKATU INTERACTIVA S.L.
A17: 2 | B17: IBERMATICA | C17: IBERMÁTICA, S.A.
A18: 2 | B18: INETUM | C18: INETUM NORTE, S.L.U.
A19: 2 | B19: SERIKAT | C19: SERIKAT CONSULTORÍA E INFORMÁTICA, S.A.
A22: 3 | B22: ECONOCOM | C22: ECONOCOM SERVICIOS S.A.
... A38: 5 | B38: VERSIA | C38: VERSIA CONTACT CENTER, S.L.
