Workbook

Sheet ANEXO I
A1: EDIFICIO - PARKE | B1: TERRITORIO | C1: CUPS | D1: TARIFA | E1: CONSUMO (KWH) | F1: DIRECCIÓN DE ENVÍO DE FACTURAS | G1: TF (€/mes) | H1: TV (c€/kWh) | I1: Energía (c€/kWh) | J1: Gasto Anual (€). Sin impuestos | K1: IH (€) | L1: IVA (€) | M1: Total (€)
A2: 105 - PCTB | B2: BIZKAIA | C2: ES0210000000001274MW | D2: RL4 | E2: 248016 | F2: ef.bizkaia@parke.eus | G2: =VLOOKUP(Tabla1[[#This Row],[TARIFA]],PEAJES!$A$3:$D$12,2) -> 55.79 | H2: =VLOOKUP(Tabla1[[#This Row],[TARIFA]],PEAJES!$A$3:$D$12,3) -> 1.2388 | I2: =VLOOKUP(Tabla1[[#This Row],[TARIFA]],PEAJES!$A$3:$D$12,4) -> 10 | J2: =Tabla1[[#This Row],[TF (€/mes)]]*12+(Tabla1[[#This Row],[TV (c€/kWh)]]+Tabla1[[#This Row],[Energía (c€/kWh)]])/100*Tabla1[[#This Row],[CONSUMO (KWH)]] -> 28543.502 | K2: =0.00234*Tabla1[[#This Row],[CONSUMO (KWH)]] -> 580.35744 | L2: =(Tabla1[[#This Row],[Gasto Anual (€). Sin impuestos]]+Tabla1[[#This Row],[IH (€)]])*0.21 -> 6116.0105 | M2: =Tabla1[[#This Row],[Gasto Anual (€). Sin impuestos]]+Tabla1[[#This Row],[IH (€)]]+Tabla1[[#This Row],[IVA (€)]] -> 35239.87
A3: 101 - PCTB | B3: BIZKAIA | C3: ES0210000000001271GE | D3: RL4 | E3: 112193 | F3: ef.bizkaia@parke.eus | G3: =VLOOKUP(Tabla1[[#This Row],[TARIFA]],PEAJES!$A$3:$D$12,2) -> 55.79 | H3: =VLOOKUP(Tabla1[[#This Row],[TARIFA]],PEAJES!$A$3:$D$12,3) -> 1.2388 | I3: =VLOOKUP(Tabla1[[#This Row],[TARIFA]],PEAJES!$A$3:$D$12,4) -> 10 | J3: =Tabla1[[#This Row],[TF (€/mes)]]*12+(Tabla1[[#This Row],[TV (c€/kWh)]]+Tabla1[[#This Row],[Energía (c€/kWh)]])/100*Tabla1[[#This Row],[CONSUMO (KWH)]] -> 13278.627 | K3: =0.00234*Tabla1[[#This Row],[CONSUMO (KWH)]] -> 262.53162 | L3: =(Tabla1[[#This Row],[Gasto Anual (€). Sin impuestos]]+Tabla1[[#This Row],[IH (€)]])*0.21 -> 2843.6433 | M3: =Tabla1[[#This Row],[Gasto Anual (€). Sin impuestos]]+Tabla1[[#This Row],[IH (€)]]+Tabla1[[#This Row],[IVA (€)]] -> 16384.802
A4: 612 - PCTB | B4: BIZKAIA | C4: ES0229100010801837JB | D4: RL3 | E4: 58275 | F4: ef.bizkaia@parke.eus | G4: =VLOOKUP(Tabla1[[#This Row],[TARIFA]],PEAJES!$A$3:$D$12,2) -> 18.22 | H4: =VLOOKUP(Tabla1[[#This Row],[TARIFA]],PEAJES!$A$3:$D$12,3) -> 1.0946 | I4: =VLOOKUP(Tabla1[[#This Row],[TARIFA]],PEAJES!$A$3:$D$12,4) -> 10 | J4: =Tabla1[[#This Row],[TF (€/mes)]]*12+(Tabla1[[#This Row],[TV (c€/kWh)]]+Tabla1[[#This Row],[Energía (c€/kWh)]])/100*Tabla1[[#This Row],[CONSUMO (KWH)]] -> 6684.0182 | K4: =0.00234*Tabla1[[#This Row],[CONSUMO (KWH)]] -> 136.3635 | L4: =(Tabla1[[#This Row],[Gasto Anual (€). Sin impuestos]]+Tabla1[[#This Row],[IH (€)]])*0.21 -> 1432.2801 | M4: =Tabla1[[#This Row],[Gasto Anual (€). Sin impuestos]]+Tabla1[[#This Row],[IH (€)]]+Tabla1[[#This Row],[IVA (€)]] -> 8252.6618
A5: Central - PTA | B5: ARABA | C5: ES0217901000000983KC | D5: RLTB5 | E5: 610527 | F5: ef.araba@parke.eus | G5: =VLOOKUP(Tabla1[[#This Row],[TARIFA]],PEAJES!$A$3:$D$12,2) -> 115.84 | H5: =VLOOKUP(Tabla1[[#This Row],[TARIFA]],PEAJES!$A$3:$D$12,3) -> 1.1767 | I5: =VLOOKUP(Tabla1[[#This Row],[TARIFA]],PEAJES!$A$3:$D$12,4) -> 10 | J5: =Tabla1[[#This Row],[TF (€/mes)]]*12+(Tabla1[[#This Row],[TV (c€/kWh)]]+Tabla1[[#This Row],[Energía (c€/kWh)]])/100*Tabla1[[#This Row],[CONSUMO (KWH)]] -> 69626.851 | K5: =0.00234*Tabla1[[#This Row],[CONSUMO (KWH)]] -> 1428.6332 | L5: =(Tabla1[[#This Row],[Gasto Anual (€). Sin impuestos]]+Tabla1[[#This Row],[IH (€)]])*0.21 -> 14921.652 | M5: =Tabla1[[#This Row],[Gasto Anual (€). Sin impuestos]]+Tabla1[[#This Row],[IH (€)]]+Tabla1[[#This Row],[IVA (€)]] -> 85977.136
A6: E5 - PTA | B6: ARABA | C6: ES0217901000003344DN | D6: RL4 | E6: 52570 | F6: ef.araba@parke.eus | G6: =VLOOKUP(Tabla1[[#This Row],[TARIFA]],PEAJES!$A$3:$D$12,2) -> 55.79 | H6: =VLOOKUP(Tabla1[[#This Row],[TARIFA]],PEAJES!$A$3:$D$12,3) -> 1.2388 | I6: =VLOOKUP(Tabla1[[#This Row],[TARIFA]],PEAJES!$A$3:$D$12,4) -> 10 | J6: =Tabla1[[#This Row],[TF (€/mes)]]*12+(Tabla1[[#This Row],[TV (c€/kWh)]]+Tabla1[[#This Row],[Energía (c€/kWh)]])/100*Tabla1[[#This Row],[CONSUMO (KWH)]] -> 6577.7172 | K6: =0.00234*Tabla1[[#This Row],[CONSUMO (KWH)]] -> 123.0138 | L6: =(Tabla1[[#This Row],[Gasto Anual (€). Sin impuestos]]+Tabla1[[#This Row],[IH (€)]])*0.21 -> 1407.1535 | M6: =Tabla1[[#This Row],[Gasto Anual (€). Sin impuestos]]+Tabla1[[#This Row],[IH (€)]]+Tabla1[[#This Row],[IVA (€)]] -> 8107.8845
A7: E6-7 - PTA | B7: ARABA | C7: ES0217901000018253JV | D7: RLTB5 | E7: 306926 | F7: ef.araba@parke.eus | G7: =VLOOKUP(Tabla1[[#This Row],[TARIFA]],PEAJES!$A$3:$D$12,2) -> 115.84 | H7: =VLOOKUP(Tabla1[[#This Row],[TARIFA]],PEAJES!$A$3:$D$12,3) -> 1.1767 | I7: =VLOOKUP(Tabla1[[#This Row],[TARIFA]],PEAJES!$A$3:$D$12,4) -> 10 | J7: =Tabla1[[#This Row],[TF (€/mes)]]*12+(Tabla1[[#This Row],[TV (c€/kWh)]]+Tabla1[[#This Row],[Energía (c€/kWh)]])/100*Tabla1[[#This Row],[CONSUMO (KWH)]] -> 35694.278 | K7: =0.00234*Tabla1[[#This Row],[CONSUMO (KWH)]] -> 718.20684 | L7: =(Tabla1[[#This Row],[Gasto Anual (€). Sin impuestos]]+Tabla1[[#This Row],[IH (€)]])*0.21 -> 7646.6219 | M7: =Tabla1[[#This Row],[Gasto Anual (€). Sin impuestos]]+Tabla1[[#This Row],[IH (€)]]+Tabla1[[#This Row],[IVA (€)]] -> 44059.107
A8: E8 - PTA | B8: ARABA | C8: ES0229120010508675VQ | D8: RL4 | E8: 289270 | F8: ef.araba@parke.eus | G8: =VLOOKUP(Tabla1[[#This Row],[TARIFA]],PEAJES!$A$3:$D$12,2) -> 55.79 | H8: =VLOOKUP(Tabla1[[#This Row],[TARIFA]],PEAJES!$A$3:$D$12,3) -> 1.2388 | I8: =VLOOKUP(Tabla1[[#This Row],[TARIFA]],PEAJES!$A$3:$D$12,4) -> 10 | J8: =Tabla1[[#This Row],[TF (€/mes)]]*12+(Tabla1[[#This Row],[TV (c€/kWh)]]+Tabla1[[#This Row],[Energía (c€/kWh)]])/100*Tabla1[[#This Row],[CONSUMO (KWH)]] -> 33179.957 | K8: =0.00234*Tabla1[[#This Row],[CONSUMO (KWH)]] -> 676.8918 | L8: =(Tabla1[[#This Row],[Gasto Anual (€). Sin impuestos]]+Tabla1[[#This Row],[IH (€)]])*0.21 -> 7109.9382 | M8: =Tabla1[[#This Row],[Gasto Anual (€). Sin impuestos]]+Tabla1[[#This Row],[IH (€)]]+Tabla1[[#This Row],[IVA (€)]] -> 40966.787
A9: E9 - PTA | B9: ARABA | C9: ES0230901000025869AM | D9: RLTB5 | E9: 407557 | F9: ef.araba@parke.eus | G9: =VLOOKUP(Tabla1[[#This Row],[TARIFA]],PEAJES!$A$3:$D$12,2) -> 115.84 | H9: =VLOOKUP(Tabla1[[#This Row],[TARIFA]],PEAJES!$A$3:$D$12,3) -> 1.1767 | I9: =VLOOKUP(Tabla1[[#This Row],[TARIFA]],PEAJES!$A$3:$D$12,4) -> 10 | J9: =Tabla1[[#This Row],[TF (€/mes)]]*12+(Tabla1[[#This Row],[TV (c€/kWh)]]+Tabla1[[#This Row],[Energía (c€/kWh)]])/100*Tabla1[[#This Row],[CONSUMO (KWH)]] -> 46941.503 | K9: =0.00234*Tabla1[[#This Row],[CONSUMO (KWH)]] -> 953.68338 | L9: =(Tabla1[[#This Row],[Gasto Anual (€). Sin impuestos]]+Tabla1[[#This Row],[IH (€)]])*0.21 -> 10057.989 | M9: =Tabla1[[#This Row],[Gasto Anual (€). Sin impuestos]]+Tabla1[[#This Row],[IH (€)]]+Tabla1[[#This Row],[IVA (€)]] -> 57953.176
A10: BIC ARABA | B10: ARABA | C10: ES0217901000001011TW | D10: RL4 | E10: 171911 | F10: bicaraba@bicaraba.eus | G10: =VLOOKUP(Tabla1[[#This Row],[TARIFA]],PEAJES!$A$3:$D$12,2) -> 55.79 | H10: =VLOOKUP(Tabla1[[#This Row],[TARIFA]],PEAJES!$A$3:$D$12,3) -> 1.2388 | I10: =VLOOKUP(Tabla1[[#This Row],[TARIFA]],PEAJES!$A$3:$D$12,4) -> 10 | J10: =Tabla1[[#This Row],[TF (€/mes)]]*12+(Tabla1[[#This Row],[TV (c€/kWh)]]+Tabla1[[#This Row],[Energía (c€/kWh)]])/100*Tabla1[[#This Row],[CONSUMO (KWH)]] -> 19990.213 | K10: =0.00234*Tabla1[[#This Row],[CONSUMO (KWH)]] -> 402.27174 | L10: =(Tabla1[[#This Row],[Gasto Anual (€). Sin impuestos]]+Tabla1[[#This Row],[IH (€)]])*0.21 -> 4282.4219 | M10: =Tabla1[[#This Row],[Gasto Anual (€). Sin impuestos]]+Tabla1[[#This Row],[IH (€)]]+Tabla1[[#This Row],[IVA (€)]] -> 24674.907
A11: B9 - PCTG | B11: GIPUZKOA | C11: ES0213000000255011JL | D11: RLTB5 | E11: 357533 | F11: ef.gipuzkoa@parke.eus | G11: =VLOOKUP(Tabla1[[#This Row],[TARIFA]],PEAJES!$A$3:$D$12,2) -> 115.84 | H11: =VLOOKUP(Tabla1[[#This Row],[TARIFA]],PEAJES!$A$3:$D$12,3) -> 1.1767 | I11: =VLOOKUP(Tabla1[[#This Row],[TARIFA]],PEAJES!$A$3:$D$12,4) -> 10 | J11: =Tabla1[[#This Row],[TF (€/mes)]]*12+(Tabla1[[#This Row],[TV (c€/kWh)]]+Tabla1[[#This Row],[Energía (c€/kWh)]])/100*Tabla1[[#This Row],[CONSUMO (KWH)]] -> 41350.471 | K11: =0.00234*Tabla1[[#This Row],[CONSUMO (KWH)]] -> 836.62722 | L11: =(Tabla1[[#This Row],[Gasto Anual (€). Sin impuestos]]+Tabla1[[#This Row],[IH (€)]])*0.21 -> 8859.2906 | M11: =Tabla1[[#This Row],[Gasto Anual (€). Sin impuestos]]+Tabla1[[#This Row],[IH (€)]]+Tabla1[[#This Row],[IVA (€)]] -> 51046.389
A12: B8 - PCTG | B12: GIPUZKOA | C12: ES0213000000255021ZY | D12: RLTB5 | E12: 527083 | F12: ef.gipuzkoa@parke.eus | G12: =VLOOKUP(Tabla1[[#This Row],[TARIFA]],PEAJES!$A$3:$D$12,2) -> 115.84 | H12: =VLOOKUP(Tabla1[[#This Row],[TARIFA]],PEAJES!$A$3:$D$12,3) -> 1.1767 | I12: =VLOOKUP(Tabla1[[#This Row],[TARIFA]],PEAJES!$A$3:$D$12,4) -> 10 | J12: =Tabla1[[#This Row],[TF (€/mes)]]*12+(Tabla1[[#This Row],[TV (c€/kWh)]]+Tabla1[[#This Row],[Energía (c€/kWh)]])/100*Tabla1[[#This Row],[CONSUMO (KWH)]] -> 60300.566 | K12: =0.00234*Tabla1[[#This Row],[CONSUMO (KWH)]] -> 1233.3742 | L12: =(Tabla1[[#This Row],[Gasto Anual (€). Sin impuestos]]+Tabla1[[#This Row],[IH (€)]])*0.21 -> 12922.127 | M12: =Tabla1[[#This Row],[Gasto Anual (€). Sin impuestos]]+Tabla1[[#This Row],[IH (€)]]+Tabla1[[#This Row],[IVA (€)]] -> 74456.067
A13: C - PCTG | B13: GIPUZKOA | C13: ES0213000000365766EY | D13: RL4 | E13: 213961 | F13: ef.gipuzkoa@parke.eus | G13: =VLOOKUP(Tabla1[[#This Row],[TARIFA]],PEAJES!$A$3:$D$12,2) -> 55.79 | H13: =VLOOKUP(Tabla1[[#This Row],[TARIFA]],PEAJES!$A$3:$D$12,3) -> 1.2388 | I13: =VLOOKUP(Tabla1[[#This Row],[TARIFA]],PEAJES!$A$3:$D$12,4) -> 10 | J13: =Tabla1[[#This Row],[TF (€/mes)]]*12+(Tabla1[[#This Row],[TV (c€/kWh)]]+Tabla1[[#This Row],[Energía (c€/kWh)]])/100*Tabla1[[#This Row],[CONSUMO (KWH)]] -> 24716.129 | K13: =0.00234*Tabla1[[#This Row],[CONSUMO (KWH)]] -> 500.66874 | L13: =(Tabla1[[#This Row],[Gasto Anual (€). Sin impuestos]]+Tabla1[[#This Row],[IH (€)]])*0.21 -> 5295.5275 | M13: =Tabla1[[#This Row],[Gasto Anual (€). Sin impuestos]]+Tabla1[[#This Row],[IH (€)]]+Tabla1[[#This Row],[IVA (€)]] -> 30512.325
A14: B2 - PCTG | B14: GIPUZKOA | C14: ES0213000000376508YF | D14: RL4 | E14: 166391 | F14: ef.gipuzkoa@parke.eus | G14: =VLOOKUP(Tabla1[[#This Row],[TARIFA]],PEAJES!$A$3:$D$12,2) -> 55.79 | H14: =VLOOKUP(Tabla1[[#This Row],[TARIFA]],PEAJES!$A$3:$D$12,3) -> 1.2388 | I14: =VLOOKUP(Tabla1[[#This Row],[TARIFA]],PEAJES!$A$3:$D$12,4) -> 10 | J14: =Tabla1[[#This Row],[TF (€/mes)]]*12+(Tabla1[[#This Row],[TV (c€/kWh)]]+Tabla1[[#This Row],[Energía (c€/kWh)]])/100*Tabla1[[#This Row],[CONSUMO (KWH)]] -> 19369.832 | K14: =0.00234*Tabla1[[#This Row],[CONSUMO (KWH)]] -> 389.35494 | L14: =(Tabla1[[#This Row],[Gasto Anual (€). Sin impuestos]]+Tabla1[[#This Row],[IH (€)]])*0.21 -> 4149.4292 | M14: =Tabla1[[#This Row],[Gasto Anual (€). Sin impuestos]]+Tabla1[[#This Row],[IH (€)]]+Tabla1[[#This Row],[IVA (€)]] -> 23908.616
J15: =SUBTOTAL(109,Tabla1[Gasto Anual (€). Sin impuestos]) -> 406253.66 | M15: =SUBTOTAL(109,Tabla1[Total (€)]) -> 501539.73

Sheet PEAJES
B1: PEAJE
B2: TF (€/mes) | C2: TV (c€/kWh) | D2: ENERGÍA 2022 (c€/kWh)
A3: RL1 | B3: 3.72 | C3: 1.6912 | D3: 10
A4: RL2 | B4: 7.87 | C4: 1.3496 | D4: 10
A5: RL3 | B5: 18.22 | C5: 1.0946 | D5: 10
A6: RL4 | B6: 55.79 | C6: 1.2388 | D6: 10
A7: RLTB5 | B7: 115.84 | C7: 1.1767 | D7: 10
A8: RLTA5 | B8: 304.78 | C8: 0.3086 | D8: 10
A9: RLTB6 | B9: 1187.04 | C9: 0.511 | D9: 10
A10: RLTA6 | B10: 897.58 | C10: 0.1996 | D10: 10
A11: RLTB7 | B11: 0 | C11: =((B20/365+C20+D20/365+E20/365+F20/365)*1.0014*1.00966)*100 -> 0 | D11: 10
A12: RLTA7 | B12: 0 | C12: =((B21/365+C21+D21/365+E21/365+F21/365)*1.0014*1.00966)*100 -> 0 | D12: 10

Sheet RESUMEN
A1: Territorio y Tarifa | B1: Suma de CONSUMO (KWH) | C1: Suma de Total (€)
A2: ARABA | B2: 1838761 | C2: 261739
A3: RL4 | B3: 513751 | C3: 73749.578
A4: RLTB5 | B4: 1325010 | C4: 187989.42
A5: BIZKAIA | B5: 418484 | C5: 59877.334
A6: RL3 | B6: 58275 | C6: 8252.6618
A7: RL4 | B7: 360209 | C7: 51624.672
A8: GIPUZKOA | B8: 1264968 | C8: 179923.4
A9: RL4 | B9: 380352 | C9: 54420.941
A10: RLTB5 | B10: 884616 | C10: 125502.46
A11: Total general | B11: 3522213 | C11: 501539.73
A14: TARIFA | B14: Suma de CONSUMO (KWH)
A15: RL3 | B15: 58275
A16: RL4 | B16: 1254312
A17: RLTB5 | B17: 2209626
A18: Total general | B18: 3522213
A21: TARIFA | B21: Cuenta de CUPS
A22: RL3 | B22: 1
A23: RL4 | B23: 7
A24: RLTB5 | B24: 5
A25: Total general | B25: 13
